BEGIN:VCALENDAR
VERSION:2.0
PRODID:-//Riverside Food Co-op - ECPv6.15.20//NONSGML v1.0//EN
CALSCALE:GREGORIAN
METHOD:PUBLISH
X-ORIGINAL-URL:https://riversidefoodcoop.org
X-WR-CALDESC:Events for Riverside Food Co-op
REFRESH-INTERVAL;VALUE=DURATION:PT1H
X-Robots-Tag:noindex
X-PUBLISHED-TTL:PT1H
BEGIN:VTIMEZONE
TZID:America/Los_Angeles
BEGIN:DAYLIGHT
TZOFFSETFROM:-0800
TZOFFSETTO:-0700
TZNAME:PDT
DTSTART:20200308T100000
END:DAYLIGHT
BEGIN:STANDARD
TZOFFSETFROM:-0700
TZOFFSETTO:-0800
TZNAME:PST
DTSTART:20201101T090000
END:STANDARD
BEGIN:DAYLIGHT
TZOFFSETFROM:-0800
TZOFFSETTO:-0700
TZNAME:PDT
DTSTART:20210314T100000
END:DAYLIGHT
BEGIN:STANDARD
TZOFFSETFROM:-0700
TZOFFSETTO:-0800
TZNAME:PST
DTSTART:20211107T090000
END:STANDARD
BEGIN:DAYLIGHT
TZOFFSETFROM:-0800
TZOFFSETTO:-0700
TZNAME:PDT
DTSTART:20220313T100000
END:DAYLIGHT
BEGIN:STANDARD
TZOFFSETFROM:-0700
TZOFFSETTO:-0800
TZNAME:PST
DTSTART:20221106T090000
END:STANDARD
END:VTIMEZONE
BEGIN:VEVENT
DTSTART;TZID=America/Los_Angeles:20211024T103000
DTEND;TZID=America/Los_Angeles:20211024T133000
DTSTAMP:20260423T090933
CREATED:20210630T045316Z
LAST-MODIFIED:20211024T063857Z
UID:301-1635071400-1635082200@riversidefoodcoop.org
SUMMARY:October Crop Box
DESCRIPTION:Address:  6143 Del Ray Ct \n\n\n\nThis month's produce list:    \n\n\n\nCarrotsRed Leaf LettuceRomaine LettuceSpinachZucchiniBrussel SproutsCabbage - GreenCantaloupeRed Seedless GrapeRusset Potatoes
URL:https://riversidefoodcoop.org/event/october-crop-box/
ATTACH;FMTTYPE=image/jpeg:https://riversidefoodcoop.org/wp-content/uploads/2021/10/Brussels-sprouts.jpg
END:VEVENT
BEGIN:VEVENT
DTSTART;TZID=America/Los_Angeles:20211013T180000
DTEND;TZID=America/Los_Angeles:20211013T190000
DTSTAMP:20260423T090933
CREATED:20210912T230836Z
LAST-MODIFIED:20210912T230841Z
UID:360-1634148000-1634151600@riversidefoodcoop.org
SUMMARY:Social Media & Website Committee Meeting
DESCRIPTION:
URL:https://riversidefoodcoop.org/event/social-media-website-committee-meeting-4/
ATTACH;FMTTYPE=image/jpeg:https://riversidefoodcoop.org/wp-content/uploads/2021/07/RIVERSIDERFCLogo.jpg
END:VEVENT
BEGIN:VEVENT
DTSTART;TZID=America/Los_Angeles:20211011T190000
DTEND;TZID=America/Los_Angeles:20211011T203000
DTSTAMP:20260423T090933
CREATED:20210912T232144Z
LAST-MODIFIED:20210927T205841Z
UID:374-1633978800-1633984200@riversidefoodcoop.org
SUMMARY:Board Meeting
DESCRIPTION:
URL:https://riversidefoodcoop.org/event/board-meeting-6/
ATTACH;FMTTYPE=image/jpeg:https://riversidefoodcoop.org/wp-content/uploads/2021/06/RiversideFoodCoopFavicon.jpg
END:VEVENT
BEGIN:VEVENT
DTSTART;TZID=America/Los_Angeles:20210927T190000
DTEND;TZID=America/Los_Angeles:20210927T203000
DTSTAMP:20260423T090933
CREATED:20210927T140026Z
LAST-MODIFIED:20210927T205758Z
UID:368-1632769200-1632774600@riversidefoodcoop.org
SUMMARY:Board Meeting
DESCRIPTION:
URL:https://riversidefoodcoop.org/event/board-meeting-3/
ATTACH;FMTTYPE=image/jpeg:https://riversidefoodcoop.org/wp-content/uploads/2021/06/RiversideFoodCoopFavicon.jpg
END:VEVENT
BEGIN:VEVENT
DTSTART;TZID=America/Los_Angeles:20210926T103000
DTEND;TZID=America/Los_Angeles:20210926T133000
DTSTAMP:20260423T090933
CREATED:20210630T045120Z
LAST-MODIFIED:20210927T205210Z
UID:298-1632652200-1632663000@riversidefoodcoop.org
SUMMARY:September Crop Box
DESCRIPTION:Address: 6143 Del Ray Ct  \n\n\n\nThis month's produce list:  \n\n\n\nHoneynut Squash - Black Sheep FarmGold Beets - Black Sheep FarmWhite Eggplant - Black Sheep FarmCelery Stalk - Black Sheep FarmPickling Cucumber - Black Sheep FarmCabbage - Gaytan Family Farm Spinach - Gaytan Family FarmRomaine Lettuce  - Gaytan Family FarmRed/yellow onion bag  - Gaytan Family FarmKale  - Gaytan Family FarmPotatoes\, White Russet - RUSD Food Hub
URL:https://riversidefoodcoop.org/event/september-crop-box/
ATTACH;FMTTYPE=image/jpeg:https://riversidefoodcoop.org/wp-content/uploads/2021/09/Honeynut-Squash.jpg
END:VEVENT
BEGIN:VEVENT
DTSTART;TZID=America/Los_Angeles:20210913T190000
DTEND;TZID=America/Los_Angeles:20210913T203000
DTSTAMP:20260423T090933
CREATED:20210912T231722Z
LAST-MODIFIED:20210912T234052Z
UID:366-1631559600-1631565000@riversidefoodcoop.org
SUMMARY:Board Meeting
DESCRIPTION:
URL:https://riversidefoodcoop.org/event/board-meeting-2/
ATTACH;FMTTYPE=image/jpeg:https://riversidefoodcoop.org/wp-content/uploads/2021/06/RiversideFoodCoopFavicon.jpg
END:VEVENT
BEGIN:VEVENT
DTSTART;TZID=America/Los_Angeles:20210908T180000
DTEND;TZID=America/Los_Angeles:20210908T190000
DTSTAMP:20260423T090933
CREATED:20210912T230508Z
LAST-MODIFIED:20210912T230514Z
UID:358-1631124000-1631127600@riversidefoodcoop.org
SUMMARY:Social Media & Website Committee Meeting
DESCRIPTION:
URL:https://riversidefoodcoop.org/event/social-media-website-committee-meeting-3/
ATTACH;FMTTYPE=image/jpeg:https://riversidefoodcoop.org/wp-content/uploads/2021/07/RIVERSIDERFCLogo.jpg
END:VEVENT
BEGIN:VEVENT
DTSTART;TZID=America/Los_Angeles:20210823T190000
DTEND;TZID=America/Los_Angeles:20210823T203000
DTSTAMP:20260423T090933
CREATED:20210912T232057Z
LAST-MODIFIED:20210927T210800Z
UID:372-1629745200-1629750600@riversidefoodcoop.org
SUMMARY:Board Meeting
DESCRIPTION:
URL:https://riversidefoodcoop.org/event/board-meeting-5/
END:VEVENT
BEGIN:VEVENT
DTSTART;TZID=America/Los_Angeles:20210822T103000
DTEND;TZID=America/Los_Angeles:20210822T133000
DTSTAMP:20260423T090933
CREATED:20210630T035631Z
LAST-MODIFIED:20210912T224823Z
UID:296-1629628200-1629639000@riversidefoodcoop.org
SUMMARY:August Crop Box
DESCRIPTION:Address: 6143 Del Ray Ct    This month's produce list: Sweet corn\, Celery\, Radish - red\, Roma tomatoes\, Cilantro\, Jalapeño\, Asparagus\, Green beans\, Cherry tomatoes\, Cucumber\, and Pasilla Peppers
URL:https://riversidefoodcoop.org/event/august-crop-box/
ATTACH;FMTTYPE=image/jpeg:https://riversidefoodcoop.org/wp-content/uploads/2021/08/tomatoes_helios4eos_gettyimages-edit.jpeg
END:VEVENT
BEGIN:VEVENT
DTSTART;TZID=America/Los_Angeles:20210811T180000
DTEND;TZID=America/Los_Angeles:20210811T190000
DTSTAMP:20260423T090933
CREATED:20210715T061632Z
LAST-MODIFIED:20210715T061636Z
UID:329-1628704800-1628708400@riversidefoodcoop.org
SUMMARY:Social Media & Website Committee Meeting
DESCRIPTION:
URL:https://riversidefoodcoop.org/event/social-media-website-committee-meeting-2/
ATTACH;FMTTYPE=image/jpeg:https://riversidefoodcoop.org/wp-content/uploads/2021/07/RIVERSIDERFCLogo.jpg
END:VEVENT
BEGIN:VEVENT
DTSTART;TZID=America/Los_Angeles:20210809T190000
DTEND;TZID=America/Los_Angeles:20210809T203000
DTSTAMP:20260423T090933
CREATED:20210912T231943Z
LAST-MODIFIED:20210927T210716Z
UID:370-1628535600-1628541000@riversidefoodcoop.org
SUMMARY:Board Meeting
DESCRIPTION:
URL:https://riversidefoodcoop.org/event/board-meeting-4/
END:VEVENT
BEGIN:VEVENT
DTSTART;TZID=America/Los_Angeles:20210726T190000
DTEND;TZID=America/Los_Angeles:20210726T210000
DTSTAMP:20260423T090933
CREATED:20210709T052726Z
LAST-MODIFIED:20210927T210945Z
UID:314-1627326000-1627333200@riversidefoodcoop.org
SUMMARY:Board Meeting
DESCRIPTION:
URL:https://riversidefoodcoop.org/event/board-meeting/
END:VEVENT
BEGIN:VEVENT
DTSTART;TZID=America/Los_Angeles:20210725T190000
DTEND;TZID=America/Los_Angeles:20210725T200000
DTSTAMP:20260423T090933
CREATED:20210715T061328Z
LAST-MODIFIED:20210715T061333Z
UID:327-1627239600-1627243200@riversidefoodcoop.org
SUMMARY:RFC Director On-Boarding
DESCRIPTION:
URL:https://riversidefoodcoop.org/event/rfc-director-on-boarding/
ATTACH;FMTTYPE=image/jpeg:https://riversidefoodcoop.org/wp-content/uploads/2021/07/RIVERSIDERFCLogo.jpg
END:VEVENT
BEGIN:VEVENT
DTSTART;TZID=America/Los_Angeles:20210725T103000
DTEND;TZID=America/Los_Angeles:20210725T133000
DTSTAMP:20260423T090933
CREATED:20210627T053215Z
LAST-MODIFIED:20210912T225342Z
UID:285-1627209000-1627219800@riversidefoodcoop.org
SUMMARY:July Crop Box
DESCRIPTION:Address: 6143 Del Ray Ct \n\n\n\nThis month's produce list: White B size potatoes\, Green beans\, Onions\, Beets\, Red leaf lettuce\, Romaine\, Cabbage\, Cantaloupe\, Cauliflower\, Cherry tomatoes\, Leeks\, Sweet Corn
URL:https://riversidefoodcoop.org/event/july-crop-box/
ATTACH;FMTTYPE=image/jpeg:https://riversidefoodcoop.org/wp-content/uploads/2021/07/corn-cob-field-1200x628-facebook-1200x628-2.jpg
END:VEVENT
BEGIN:VEVENT
DTSTART;TZID=America/Los_Angeles:20210714T180000
DTEND;TZID=America/Los_Angeles:20210714T193000
DTSTAMP:20260423T090933
CREATED:20210709T053128Z
LAST-MODIFIED:20210709T053135Z
UID:316-1626285600-1626291000@riversidefoodcoop.org
SUMMARY:Social Media & Website Committee Meeting
DESCRIPTION:
URL:https://riversidefoodcoop.org/event/social-media-website-committee-meeting/
END:VEVENT
BEGIN:VEVENT
DTSTART;TZID=America/Los_Angeles:20210627T103000
DTEND;TZID=America/Los_Angeles:20210627T133000
DTSTAMP:20260423T090933
CREATED:20210627T041104Z
LAST-MODIFIED:20211107T054141Z
UID:279-1624789800-1624800600@riversidefoodcoop.org
SUMMARY:June Crop Box
DESCRIPTION:Address:  6143 Del Ray Ct \n\n\n\nThis month's produce list:    \n\n\n\nCelery\, Strawberries\, Asparagus\, Sweet corn\, Eggplant\, Cucumber\, Rainbow carrots - 3 colors minimum\, Onion\, Beets\, Salad turnips\, New potatoes\, Garlic/Shallot
URL:https://riversidefoodcoop.org/event/june-crop-box/
ATTACH;FMTTYPE=image/jpeg:https://riversidefoodcoop.org/wp-content/uploads/2021/06/strawberries-1296x728-feature.jpg
END:VEVENT
END:VCALENDAR